BEGIN:VCALENDAR
VERSION:2.0
PRODID:-//AWO-Freiwilligenagentur - ECPv6.13.1//NONSGML v1.0//EN
CALSCALE:GREGORIAN
METHOD:PUBLISH
X-ORIGINAL-URL:https://freiwillig-engagiert.de
X-WR-CALDESC:Veranstaltungen für AWO-Freiwilligenagentur
REFRESH-INTERVAL;VALUE=DURATION:PT1H
X-Robots-Tag:noindex
X-PUBLISHED-TTL:PT1H
BEGIN:VTIMEZONE
TZID:UTC
BEGIN:STANDARD
TZOFFSETFROM:+0000
TZOFFSETTO:+0000
TZNAME:UTC
DTSTART:20250101T000000
END:STANDARD
END:VTIMEZONE
BEGIN:VEVENT
DTSTART;TZID=UTC:20250517T140000
DTEND;TZID=UTC:20250517T160000
DTSTAMP:20260421T172752
CREATED:20250514T132835Z
LAST-MODIFIED:20250514T150138Z
UID:19016-1747490400-1747497600@freiwillig-engagiert.de
SUMMARY:Besuch beim Haus Entenfang
DESCRIPTION:Kommt mit zum Haus Entenfang\nEnten\nAm Samstag\, den 17. Mai besuchen wir\nab 14 Uhr das Haus Entenfang\nim Nehrkornweg 2 in Braunschweig Riddagshausen.  \nWir bekommen eine Führung durch das Haus.\nHier geht es um die Natur in Braunschweig.\nWir sehen uns auch die Teiche an.\nDort werden uns Tiere und Pflanzen gezeigt. \n  \nKreuzteich\nTreffen ist an der Bushaltestelle Nehrkornweg (Linie 423).\nVon da gehen wir sieben Minuten zum Veranstaltungsort.\nDauer der Aktion:  ungefähr zwei Stunden. \nDie Veranstaltung findet im Rahmen des Projektes\n“Wandern Inklusive” statt. \nAnmeldungen bitte bis 16. Mai 2025 unter:\nwandern.inklusive [at] freiwillig-engagiert.de\noder unter 0531/4811020 \n  \n\n____________________________________ \nHaus Entenfang\n   \nWann? Freitag\, 17.05.2025 um 14.00 Uhr\n(Dauer ca. 2 Stunden)\n    Wo?\nHaus Entenfang\nNehrkornweg 2\n38106 Braunschweig \n_____________________________ \nFotos 1/2 : Enya Falk (Enten) / Oliver Ding (Kreuzteich)\nFoto 3: Haus Entenfang / Stadt Braunschweig\n  \nProjekt: \n \nFörderung:
URL:https://freiwillig-engagiert.de/event/haus-entenfang/
LOCATION:Haus Entenfang\, Nehrkornweg 2\, Braunschweig\, Niedersachsen\, 38104\, Deutschland
CATEGORIES:Braunschweig,Inklusion,Wandern Inklusive
ATTACH;FMTTYPE=image/jpeg:https://freiwillig-engagiert.de/wp-content/uploads/2025/05/Kreuzteich.jpg
END:VEVENT
END:VCALENDAR