BEGIN:VCALENDAR
VERSION:2.0
PRODID:-//AWO-Freiwilligenagentur - ECPv6.13.1//NONSGML v1.0//EN
CALSCALE:GREGORIAN
METHOD:PUBLISH
X-WR-CALNAME:AWO-Freiwilligenagentur
X-ORIGINAL-URL:https://freiwillig-engagiert.de
X-WR-CALDESC:Veranstaltungen für AWO-Freiwilligenagentur
REFRESH-INTERVAL;VALUE=DURATION:PT1H
X-Robots-Tag:noindex
X-PUBLISHED-TTL:PT1H
BEGIN:VTIMEZONE
TZID:UTC
BEGIN:STANDARD
TZOFFSETFROM:+0000
TZOFFSETTO:+0000
TZNAME:UTC
DTSTART:20250101T000000
END:STANDARD
END:VTIMEZONE
BEGIN:VEVENT
DTSTART;TZID=UTC:20250509T150000
DTEND;TZID=UTC:20250509T180000
DTSTAMP:20260421T124158
CREATED:20250430T135639Z
LAST-MODIFIED:20250430T140058Z
UID:18847-1746802800-1746813600@freiwillig-engagiert.de
SUMMARY:Besuch des Imkers in der Nordstadt
DESCRIPTION:Besuch des Imkers in der Nordstadt \nWir haben eine tolle neue Naturaktion! \nGemeinsam mit dem Kreativlabor Siegfriedviertel  \nbesuchen wir einen Imker. \nWir treffen uns dazu am Salm Studio. \nDas ist in der Siegmundstraße 7\, \nhier hält die Straßenbahnlinie 2. \n  \nDie Haltestelle heißt “Burgundenplatz”. \nVon dort geht es los: \nGemeinsam gehen wir zum Imker in der Nordstadt und sehen uns \ndie Bienen an und wie sie Honig machen. \nMacht mit uns seid dabei! \n  \nAnmeldungen bitte bis 6. Mai 2025 unter:\nwandern.inklusive [at] freiwillig-engagiert.de\noder unter 0531/4811020 \n  \nIcons: de.freepik.com\nBild oben: Logo Kreativlabor Siegfriedviertel \n_____________________________________________________________ \n    Wann? Freitag\, 09.05.2025 um 15.00 Uhr\n(Dauer ca. 3 Stunden)\n    Wo?\nSalm Studio / Kreativlabor Siegfriedviertel\nSiegmundstraße 7\n38106 Braunschweig \n_____________________________________________________________ \n  \nProjekt: \n \nFörderung:
URL:https://freiwillig-engagiert.de/event/besuch-des-imkers-in-der-nordstadt/
LOCATION:Nachhaltigkeitszentrum Braunschweig\, Bohlweg 55\, Braunschweig\, Niedersachsen\, 38100\, Deutschland
CATEGORIES:Braunschweig,Inklusion,Wandern Inklusive
ATTACH;FMTTYPE=image/png:https://freiwillig-engagiert.de/wp-content/uploads/2025/04/Bildschirmfoto-2025-04-30-um-15.43.45.png
END:VEVENT
END:VCALENDAR