BEGIN:VCALENDAR
VERSION:2.0
PRODID:-//AWO-Freiwilligenagentur - ECPv6.13.1//NONSGML v1.0//EN
CALSCALE:GREGORIAN
METHOD:PUBLISH
X-WR-CALNAME:AWO-Freiwilligenagentur
X-ORIGINAL-URL:https://freiwillig-engagiert.de
X-WR-CALDESC:Veranstaltungen für AWO-Freiwilligenagentur
REFRESH-INTERVAL;VALUE=DURATION:PT1H
X-Robots-Tag:noindex
X-PUBLISHED-TTL:PT1H
BEGIN:VTIMEZONE
TZID:UTC
BEGIN:STANDARD
TZOFFSETFROM:+0000
TZOFFSETTO:+0000
TZNAME:UTC
DTSTART:20250101T000000
END:STANDARD
END:VTIMEZONE
BEGIN:VEVENT
DTSTART;TZID=UTC:20250507T163000
DTEND;TZID=UTC:20250507T180000
DTSTAMP:20260423T123115
CREATED:20250430T131653Z
LAST-MODIFIED:20250505T095754Z
UID:18836-1746635400-1746640800@freiwillig-engagiert.de
SUMMARY:Workshop: Shampoo natürlich selbst herstellen
DESCRIPTION:Workshop im Nachhaltigkeitszentrum: “Shampoo selbst herstellen”!\n  \nWir treffen uns im Nach-haltigkeits-Zentrum in Braunschweig. \nDas ist ein Ort zum Treffen und für Veranstaltungen. \nEs geht um die Stärkung nachhaltigen Lebens und Wirtschaftens. \nWir veranstalten dort mit Frau Patricia Grothe einen Workshop. \n  \nShampoo selbst machen! 🌿 \nMöchtest du lernen\, wie du dir Shampoo aus natürlichen\,\npflegenden Zutaten selbst herstellst? \nIn diesem Workshop zeigt dir Patricia Grothe\, wie du mit einfachen\,\nhochwertigen Rohstoffen eine nachhaltige und wirksame Haarpflege zauberst. \n  \n  \n\nDas erwartet dich: \n✅ Einführung in die Welt der Naturkosmetik\n✅ Wissen über pflegende Öle\, Butter & Wachse\n✅ Schritt-für-Schritt-Anleitung zur Herstellung\n✅ Tipps zur individuellen Anpassung\n✅ Dein eigenes Shampoo zum Mitnehmen \n  \n  \nAnmeldungen bis 6. Mai 2025 unter:\nwandern.inklusive [at] freiwillig-engagiert.de\noder unter 0531/4811020 \n  \nFotos: de.freepik.com\nBild oben: Logo Nachhaltigkeitszentrum Braunschweig \n_____________________________________________________________ \n    Wann? Mittwoch\, 07.05.2025 um 16.30 Uhr\n(Dauer ca. 1\,5 Stunden)\n    Wo?\nNachhaltigkeits-Zentrum Braunschweig\nBohlweg 55\n38100 Braunschweig \n_____________________________________________________________ \n  \nProjekt: \n \nFörderung:
URL:https://freiwillig-engagiert.de/event/workshop-im-nachhaltigkeitszentrum-shampoo-natuerlich-selbst-herstellen/
LOCATION:Nachhaltigkeitszentrum Braunschweig\, Bohlweg 55\, Braunschweig\, Niedersachsen\, 38100\, Deutschland
CATEGORIES:Braunschweig,Inklusion,Wandern Inklusive
ATTACH;FMTTYPE=image/webp:https://freiwillig-engagiert.de/wp-content/uploads/2025/01/3a6cd7f26dc89f42160c3d97912ce3e0.jpg-2.webp
END:VEVENT
END:VCALENDAR